BEGIN:VCALENDAR
VERSION:2.0
PRODID:-//jEvents 2.0 for Joomla//EN
CALSCALE:GREGORIAN
METHOD:PUBLISH
BEGIN:VEVENT
UID:cc98ba877ed341a3c38ffff486e30a10
CATEGORIES:Schülertermine für alle
CREATED:20251128T124232
SUMMARY:Eltern- und Ausbildersprechtag
DESCRIPTION:
DTSTAMP:20260424T141451
DTSTART:20251128T120000
DTEND:20260211T140000
SEQUENCE:0
TRANSP:OPAQUE
END:VEVENT
END:VCALENDAR